BEGIN:VCALENDAR
VERSION:2.0
PRODID:-//City of Centerville - ECPv6.15.20//NONSGML v1.0//EN
CALSCALE:GREGORIAN
METHOD:PUBLISH
X-ORIGINAL-URL:https://www.centervillega.org
X-WR-CALDESC:Events for City of Centerville
REFRESH-INTERVAL;VALUE=DURATION:PT1H
X-Robots-Tag:noindex
X-PUBLISHED-TTL:PT1H
BEGIN:VTIMEZONE
TZID:America/New_York
BEGIN:DAYLIGHT
TZOFFSETFROM:-0500
TZOFFSETTO:-0400
TZNAME:EDT
DTSTART:20250309T070000
END:DAYLIGHT
BEGIN:STANDARD
TZOFFSETFROM:-0400
TZOFFSETTO:-0500
TZNAME:EST
DTSTART:20251102T060000
END:STANDARD
BEGIN:DAYLIGHT
TZOFFSETFROM:-0500
TZOFFSETTO:-0400
TZNAME:EDT
DTSTART:20260308T070000
END:DAYLIGHT
BEGIN:STANDARD
TZOFFSETFROM:-0400
TZOFFSETTO:-0500
TZNAME:EST
DTSTART:20261101T060000
END:STANDARD
BEGIN:DAYLIGHT
TZOFFSETFROM:-0500
TZOFFSETTO:-0400
TZNAME:EDT
DTSTART:20270314T070000
END:DAYLIGHT
BEGIN:STANDARD
TZOFFSETFROM:-0400
TZOFFSETTO:-0500
TZNAME:EST
DTSTART:20271107T060000
END:STANDARD
END:VTIMEZONE
BEGIN:VEVENT
DTSTART;TZID=America/New_York:20260513T080000
DTEND;TZID=America/New_York:20260513T170000
DTSTAMP:20260419T093702
CREATED:20260414T140734Z
LAST-MODIFIED:20260414T140734Z
UID:2486-1778659200-1778691600@www.centervillega.org
SUMMARY:Houston County State 4H Nutrition Training - Community Room
DESCRIPTION:
URL:https://www.centervillega.org/event/houston-county-state-4h-nutrition-training-community-room/2026-05-13/
END:VEVENT
BEGIN:VEVENT
DTSTART;TZID=America/New_York:20260514T080000
DTEND;TZID=America/New_York:20260514T170000
DTSTAMP:20260419T093702
CREATED:20260414T140734Z
LAST-MODIFIED:20260414T140734Z
UID:2487-1778745600-1778778000@www.centervillega.org
SUMMARY:Houston County State 4H Nutrition Training - Community Room
DESCRIPTION:
URL:https://www.centervillega.org/event/houston-county-state-4h-nutrition-training-community-room/2026-05-14/
END:VEVENT
END:VCALENDAR