BEGIN:VCALENDAR
VERSION:2.0
PRODID:-//City of Centerville - ECPv6.15.20//NONSGML v1.0//EN
CALSCALE:GREGORIAN
METHOD:PUBLISH
X-WR-CALNAME:City of Centerville
X-ORIGINAL-URL:https://www.centervillega.org
X-WR-CALDESC:Events for City of Centerville
REFRESH-INTERVAL;VALUE=DURATION:PT1H
X-Robots-Tag:noindex
X-PUBLISHED-TTL:PT1H
BEGIN:VTIMEZONE
TZID:America/New_York
BEGIN:DAYLIGHT
TZOFFSETFROM:-0500
TZOFFSETTO:-0400
TZNAME:EDT
DTSTART:20240310T070000
END:DAYLIGHT
BEGIN:STANDARD
TZOFFSETFROM:-0400
TZOFFSETTO:-0500
TZNAME:EST
DTSTART:20241103T060000
END:STANDARD
BEGIN:DAYLIGHT
TZOFFSETFROM:-0500
TZOFFSETTO:-0400
TZNAME:EDT
DTSTART:20250309T070000
END:DAYLIGHT
BEGIN:STANDARD
TZOFFSETFROM:-0400
TZOFFSETTO:-0500
TZNAME:EST
DTSTART:20251102T060000
END:STANDARD
BEGIN:DAYLIGHT
TZOFFSETFROM:-0500
TZOFFSETTO:-0400
TZNAME:EDT
DTSTART:20260308T070000
END:DAYLIGHT
BEGIN:STANDARD
TZOFFSETFROM:-0400
TZOFFSETTO:-0500
TZNAME:EST
DTSTART:20261101T060000
END:STANDARD
END:VTIMEZONE
BEGIN:VEVENT
DTSTART;TZID=America/New_York:20250802T090000
DTEND;TZID=America/New_York:20250802T130000
DTSTAMP:20260422T074550
CREATED:20250718T141134Z
LAST-MODIFIED:20250718T141134Z
UID:2083-1754125200-1754139600@www.centervillega.org
SUMMARY:CenterPark Market
DESCRIPTION:
URL:https://www.centervillega.org/event/centerpark-market/2025-08-02/
LOCATION:Center Park at Centerville\, 103 E Church Street\, Centerville\, GA\, 31028\, United States
END:VEVENT
BEGIN:VEVENT
DTSTART;TZID=America/New_York:20250809T110000
DTEND;TZID=America/New_York:20250809T160000
DTSTAMP:20260422T074550
CREATED:20240221T202106Z
LAST-MODIFIED:20250306T193643Z
UID:1843-1754737200-1754755200@www.centervillega.org
SUMMARY:Shaved Ice Saturday
DESCRIPTION:What’s better on a hot day than a cold shaved ice treat?! \nWe are excited to offer this new opportunity for a local vendor to be in Center Park during some of the hottest days of the year. Join us for Shaved Ice Saturday on August 17th. Whether you’re spending the day in Center Park or just passing by\, be sure to check out what our rotating vendors have to offer. \nA featured vendor will be in the park from 11-4pm.
URL:https://www.centervillega.org/event/shaved-ice-saturday-4/
LOCATION:Center Park at Centerville\, 103 E Church Street\, Centerville\, GA\, 31028\, United States
END:VEVENT
BEGIN:VEVENT
DTSTART;TZID=America/New_York:20250816T090000
DTEND;TZID=America/New_York:20250816T130000
DTSTAMP:20260422T074550
CREATED:20250718T141134Z
LAST-MODIFIED:20250718T141134Z
UID:2084-1755334800-1755349200@www.centervillega.org
SUMMARY:CenterPark Market
DESCRIPTION:
URL:https://www.centervillega.org/event/centerpark-market/2025-08-16/
LOCATION:Center Park at Centerville\, 103 E Church Street\, Centerville\, GA\, 31028\, United States
END:VEVENT
END:VCALENDAR