BEGIN:VCALENDAR
VERSION:2.0
PRODID:-//City of Centerville - ECPv6.15.20//NONSGML v1.0//EN
CALSCALE:GREGORIAN
METHOD:PUBLISH
X-WR-CALNAME:City of Centerville
X-ORIGINAL-URL:https://www.centervillega.org
X-WR-CALDESC:Events for City of Centerville
REFRESH-INTERVAL;VALUE=DURATION:PT1H
X-Robots-Tag:noindex
X-PUBLISHED-TTL:PT1H
BEGIN:VTIMEZONE
TZID:America/New_York
BEGIN:DAYLIGHT
TZOFFSETFROM:-0500
TZOFFSETTO:-0400
TZNAME:EDT
DTSTART:20210314T070000
END:DAYLIGHT
BEGIN:STANDARD
TZOFFSETFROM:-0400
TZOFFSETTO:-0500
TZNAME:EST
DTSTART:20211107T060000
END:STANDARD
BEGIN:DAYLIGHT
TZOFFSETFROM:-0500
TZOFFSETTO:-0400
TZNAME:EDT
DTSTART:20220313T070000
END:DAYLIGHT
BEGIN:STANDARD
TZOFFSETFROM:-0400
TZOFFSETTO:-0500
TZNAME:EST
DTSTART:20221106T060000
END:STANDARD
BEGIN:DAYLIGHT
TZOFFSETFROM:-0500
TZOFFSETTO:-0400
TZNAME:EDT
DTSTART:20230312T070000
END:DAYLIGHT
BEGIN:STANDARD
TZOFFSETFROM:-0400
TZOFFSETTO:-0500
TZNAME:EST
DTSTART:20231105T060000
END:STANDARD
END:VTIMEZONE
BEGIN:VEVENT
DTSTART;TZID=America/New_York:20220701T180000
DTEND;TZID=America/New_York:20220701T220000
DTSTAMP:20260422T103302
CREATED:20220609T124123Z
LAST-MODIFIED:20220628T145029Z
UID:1522-1656698400-1656712800@www.centervillega.org
SUMMARY:Independence Day Celebration
DESCRIPTION:INDEPENDENCE DAY FLYER 2022
URL:https://www.centervillega.org/event/independence-day-celebration-2/
LOCATION:Center Park at Centerville\, 103 E Church Street\, Centerville\, GA\, 31028\, United States
END:VEVENT
BEGIN:VEVENT
DTSTART;TZID=America/New_York:20220618T090000
DTEND;TZID=America/New_York:20220618T130000
DTSTAMP:20260422T103302
CREATED:20220419T185927Z
LAST-MODIFIED:20220419T185927Z
UID:1495-1655542800-1655557200@www.centervillega.org
SUMMARY:Farmers Market
DESCRIPTION:
URL:https://www.centervillega.org/event/farmers-market-10/
LOCATION:Center Park at Centerville\, 103 E Church Street\, Centerville\, GA\, 31028\, United States
END:VEVENT
BEGIN:VEVENT
DTSTART;TZID=America/New_York:20220603T053000
DTEND;TZID=America/New_York:20220603T210000
DTSTAMP:20260422T103302
CREATED:20220419T183609Z
LAST-MODIFIED:20220419T183609Z
UID:1488-1654234200-1654290000@www.centervillega.org
SUMMARY:Food Truck Friday
DESCRIPTION:
URL:https://www.centervillega.org/event/food-truck-friday-3/
LOCATION:Center Park at Centerville\, 103 E Church Street\, Centerville\, GA\, 31028\, United States
END:VEVENT
BEGIN:VEVENT
DTSTART;TZID=America/New_York:20220521T090000
DTEND;TZID=America/New_York:20220521T130000
DTSTAMP:20260422T103302
CREATED:20220419T183815Z
LAST-MODIFIED:20220419T183815Z
UID:1489-1653123600-1653138000@www.centervillega.org
SUMMARY:Farmers Market
DESCRIPTION:
URL:https://www.centervillega.org/event/farmers-market-6/
LOCATION:Center Park at Centerville\, 103 E Church Street\, Centerville\, GA\, 31028\, United States
END:VEVENT
BEGIN:VEVENT
DTSTART;TZID=America/New_York:20220507T090000
DTEND;TZID=America/New_York:20220507T130000
DTSTAMP:20260422T103302
CREATED:20220418T164721Z
LAST-MODIFIED:20220418T164721Z
UID:1484-1651914000-1651928400@www.centervillega.org
SUMMARY:Farmers Market
DESCRIPTION:
URL:https://www.centervillega.org/event/farmers-market-5/
LOCATION:Center Park at Centerville\, 103 E Church Street\, Centerville\, GA\, 31028\, United States
END:VEVENT
BEGIN:VEVENT
DTSTART;TZID=America/New_York:20220506T173000
DTEND;TZID=America/New_York:20220506T210000
DTSTAMP:20260422T103302
CREATED:20220419T183303Z
LAST-MODIFIED:20220419T183406Z
UID:1486-1651858200-1651870800@www.centervillega.org
SUMMARY:Food Truck Friday
DESCRIPTION:
URL:https://www.centervillega.org/event/food-truck-friday-2/
LOCATION:Center Park at Centerville\, 103 E Church Street\, Centerville\, GA\, 31028\, United States
END:VEVENT
BEGIN:VEVENT
DTSTART;TZID=America/New_York:20220416T090000
DTEND;TZID=America/New_York:20220416T130000
DTSTAMP:20260422T103302
CREATED:20220408T121828Z
LAST-MODIFIED:20220408T121828Z
UID:1480-1650099600-1650114000@www.centervillega.org
SUMMARY:Farmers Market
DESCRIPTION:
URL:https://www.centervillega.org/event/farmers-market-4/
LOCATION:Center Park at Centerville\, 103 E Church Street\, Centerville\, GA\, 31028\, United States
END:VEVENT
BEGIN:VEVENT
DTSTART;TZID=America/New_York:20220411T080000
DTEND;TZID=America/New_York:20220415T080000
DTSTAMP:20260422T103302
CREATED:20210322T171849Z
LAST-MODIFIED:20220316T195803Z
UID:1225-1649664000-1650009600@www.centervillega.org
SUMMARY:Spring Clean Up
DESCRIPTION:The annual Spring Clean Up is quickly approaching!  Have items out with your trash cart by 6am on your normal pick up day.\nNormal restrictions apply. Please click on the following link for more information.  SPRING CLEAN UP April 11-15\, 2022
URL:https://www.centervillega.org/event/spring-clean-up/
END:VEVENT
END:VCALENDAR