BEGIN:VCALENDAR
VERSION:2.0
PRODID:-//City of Centerville - ECPv6.15.20//NONSGML v1.0//EN
CALSCALE:GREGORIAN
METHOD:PUBLISH
X-ORIGINAL-URL:https://www.centervillega.org
X-WR-CALDESC:Events for City of Centerville
REFRESH-INTERVAL;VALUE=DURATION:PT1H
X-Robots-Tag:noindex
X-PUBLISHED-TTL:PT1H
BEGIN:VTIMEZONE
TZID:America/New_York
BEGIN:DAYLIGHT
TZOFFSETFROM:-0500
TZOFFSETTO:-0400
TZNAME:EDT
DTSTART:20260308T070000
END:DAYLIGHT
BEGIN:STANDARD
TZOFFSETFROM:-0400
TZOFFSETTO:-0500
TZNAME:EST
DTSTART:20261101T060000
END:STANDARD
BEGIN:DAYLIGHT
TZOFFSETFROM:-0500
TZOFFSETTO:-0400
TZNAME:EDT
DTSTART:20270314T070000
END:DAYLIGHT
BEGIN:STANDARD
TZOFFSETFROM:-0400
TZOFFSETTO:-0500
TZNAME:EST
DTSTART:20271107T060000
END:STANDARD
BEGIN:DAYLIGHT
TZOFFSETFROM:-0500
TZOFFSETTO:-0400
TZNAME:EDT
DTSTART:20280312T070000
END:DAYLIGHT
BEGIN:STANDARD
TZOFFSETFROM:-0400
TZOFFSETTO:-0500
TZNAME:EST
DTSTART:20281105T060000
END:STANDARD
BEGIN:DAYLIGHT
TZOFFSETFROM:-0500
TZOFFSETTO:-0400
TZNAME:EDT
DTSTART:20290311T070000
END:DAYLIGHT
BEGIN:STANDARD
TZOFFSETFROM:-0400
TZOFFSETTO:-0500
TZNAME:EST
DTSTART:20291104T060000
END:STANDARD
END:VTIMEZONE
BEGIN:VEVENT
DTSTART;TZID=America/New_York:20270318T100000
DTEND;TZID=America/New_York:20270318T150000
DTSTAMP:20260424T072055
CREATED:20260203T210212Z
LAST-MODIFIED:20260203T213837Z
UID:2248-1805364000-1805382000@www.centervillega.org
SUMMARY:Centerville Seniors - Community Room
DESCRIPTION:
URL:https://www.centervillega.org/event/centerville-seniors-2/2027-03-18/
LOCATION:Centerville Community Rood\, 300 E. Church Street\, Centerville\, GA\, 31028\, United States
END:VEVENT
BEGIN:VEVENT
DTSTART;TZID=America/New_York:20270415T100000
DTEND;TZID=America/New_York:20270415T150000
DTSTAMP:20260424T072055
CREATED:20260203T210212Z
LAST-MODIFIED:20260203T213837Z
UID:2249-1807783200-1807801200@www.centervillega.org
SUMMARY:Centerville Seniors - Community Room
DESCRIPTION:
URL:https://www.centervillega.org/event/centerville-seniors-2/2027-04-15/
LOCATION:Centerville Community Rood\, 300 E. Church Street\, Centerville\, GA\, 31028\, United States
END:VEVENT
BEGIN:VEVENT
DTSTART;TZID=America/New_York:20270520T100000
DTEND;TZID=America/New_York:20270520T150000
DTSTAMP:20260424T072055
CREATED:20260203T210212Z
LAST-MODIFIED:20260203T213838Z
UID:2250-1810807200-1810825200@www.centervillega.org
SUMMARY:Centerville Seniors - Community Room
DESCRIPTION:
URL:https://www.centervillega.org/event/centerville-seniors-2/2027-05-20/
LOCATION:Centerville Community Rood\, 300 E. Church Street\, Centerville\, GA\, 31028\, United States
END:VEVENT
BEGIN:VEVENT
DTSTART;TZID=America/New_York:20270617T100000
DTEND;TZID=America/New_York:20270617T150000
DTSTAMP:20260424T072055
CREATED:20260203T210212Z
LAST-MODIFIED:20260203T213838Z
UID:2251-1813226400-1813244400@www.centervillega.org
SUMMARY:Centerville Seniors - Community Room
DESCRIPTION:
URL:https://www.centervillega.org/event/centerville-seniors-2/2027-06-17/
LOCATION:Centerville Community Rood\, 300 E. Church Street\, Centerville\, GA\, 31028\, United States
END:VEVENT
BEGIN:VEVENT
DTSTART;TZID=America/New_York:20270715T100000
DTEND;TZID=America/New_York:20270715T150000
DTSTAMP:20260424T072055
CREATED:20260203T210212Z
LAST-MODIFIED:20260203T213838Z
UID:2252-1815645600-1815663600@www.centervillega.org
SUMMARY:Centerville Seniors - Community Room
DESCRIPTION:
URL:https://www.centervillega.org/event/centerville-seniors-2/2027-07-15/
LOCATION:Centerville Community Rood\, 300 E. Church Street\, Centerville\, GA\, 31028\, United States
END:VEVENT
BEGIN:VEVENT
DTSTART;TZID=America/New_York:20270819T100000
DTEND;TZID=America/New_York:20270819T150000
DTSTAMP:20260424T072055
CREATED:20260203T210212Z
LAST-MODIFIED:20260203T213838Z
UID:2253-1818669600-1818687600@www.centervillega.org
SUMMARY:Centerville Seniors - Community Room
DESCRIPTION:
URL:https://www.centervillega.org/event/centerville-seniors-2/2027-08-19/
LOCATION:Centerville Community Rood\, 300 E. Church Street\, Centerville\, GA\, 31028\, United States
END:VEVENT
BEGIN:VEVENT
DTSTART;TZID=America/New_York:20270916T100000
DTEND;TZID=America/New_York:20270916T150000
DTSTAMP:20260424T072055
CREATED:20260203T210212Z
LAST-MODIFIED:20260203T213839Z
UID:2254-1821088800-1821106800@www.centervillega.org
SUMMARY:Centerville Seniors - Community Room
DESCRIPTION:
URL:https://www.centervillega.org/event/centerville-seniors-2/2027-09-16/
LOCATION:Centerville Community Rood\, 300 E. Church Street\, Centerville\, GA\, 31028\, United States
END:VEVENT
BEGIN:VEVENT
DTSTART;TZID=America/New_York:20271021T100000
DTEND;TZID=America/New_York:20271021T150000
DTSTAMP:20260424T072055
CREATED:20260203T210212Z
LAST-MODIFIED:20260203T213839Z
UID:2255-1824112800-1824130800@www.centervillega.org
SUMMARY:Centerville Seniors - Community Room
DESCRIPTION:
URL:https://www.centervillega.org/event/centerville-seniors-2/2027-10-21/
LOCATION:Centerville Community Rood\, 300 E. Church Street\, Centerville\, GA\, 31028\, United States
END:VEVENT
BEGIN:VEVENT
DTSTART;TZID=America/New_York:20271118T100000
DTEND;TZID=America/New_York:20271118T150000
DTSTAMP:20260424T072055
CREATED:20260203T210212Z
LAST-MODIFIED:20260203T213840Z
UID:2256-1826532000-1826550000@www.centervillega.org
SUMMARY:Centerville Seniors - Community Room
DESCRIPTION:
URL:https://www.centervillega.org/event/centerville-seniors-2/2027-11-18/
LOCATION:Centerville Community Rood\, 300 E. Church Street\, Centerville\, GA\, 31028\, United States
END:VEVENT
BEGIN:VEVENT
DTSTART;TZID=America/New_York:20271216T100000
DTEND;TZID=America/New_York:20271216T150000
DTSTAMP:20260424T072055
CREATED:20260203T210212Z
LAST-MODIFIED:20260203T213840Z
UID:2257-1828951200-1828969200@www.centervillega.org
SUMMARY:Centerville Seniors - Community Room
DESCRIPTION:
URL:https://www.centervillega.org/event/centerville-seniors-2/2027-12-16/
LOCATION:Centerville Community Rood\, 300 E. Church Street\, Centerville\, GA\, 31028\, United States
END:VEVENT
BEGIN:VEVENT
DTSTART;TZID=America/New_York:20280120T100000
DTEND;TZID=America/New_York:20280120T150000
DTSTAMP:20260424T072055
CREATED:20260203T210212Z
LAST-MODIFIED:20260203T213840Z
UID:2258-1831975200-1831993200@www.centervillega.org
SUMMARY:Centerville Seniors - Community Room
DESCRIPTION:
URL:https://www.centervillega.org/event/centerville-seniors-2/2028-01-20/
LOCATION:Centerville Community Rood\, 300 E. Church Street\, Centerville\, GA\, 31028\, United States
END:VEVENT
BEGIN:VEVENT
DTSTART;TZID=America/New_York:20280217T100000
DTEND;TZID=America/New_York:20280217T150000
DTSTAMP:20260424T072055
CREATED:20260203T210212Z
LAST-MODIFIED:20260203T210212Z
UID:2376-1834394400-1834412400@www.centervillega.org
SUMMARY:Centerville Seniors - Community Room
DESCRIPTION:
URL:https://www.centervillega.org/event/centerville-seniors-2/2028-02-17/
LOCATION:Centerville Community Rood\, 300 E. Church Street\, Centerville\, GA\, 31028\, United States
END:VEVENT
BEGIN:VEVENT
DTSTART;TZID=America/New_York:20280316T100000
DTEND;TZID=America/New_York:20280316T150000
DTSTAMP:20260424T072055
CREATED:20260203T210212Z
LAST-MODIFIED:20260203T210212Z
UID:2464-1836813600-1836831600@www.centervillega.org
SUMMARY:Centerville Seniors - Community Room
DESCRIPTION:
URL:https://www.centervillega.org/event/centerville-seniors-2/2028-03-16/
LOCATION:Centerville Community Rood\, 300 E. Church Street\, Centerville\, GA\, 31028\, United States
END:VEVENT
BEGIN:VEVENT
DTSTART;TZID=America/New_York:20280420T100000
DTEND;TZID=America/New_York:20280420T150000
DTSTAMP:20260424T072055
CREATED:20260203T210212Z
LAST-MODIFIED:20260203T210212Z
UID:2497-1839837600-1839855600@www.centervillega.org
SUMMARY:Centerville Seniors - Community Room
DESCRIPTION:
URL:https://www.centervillega.org/event/centerville-seniors-2/2028-04-20/
LOCATION:Centerville Community Rood\, 300 E. Church Street\, Centerville\, GA\, 31028\, United States
END:VEVENT
END:VCALENDAR