BEGIN:VCALENDAR
VERSION:2.0
PRODID:-//City of Centerville - ECPv6.15.20//NONSGML v1.0//EN
CALSCALE:GREGORIAN
METHOD:PUBLISH
X-ORIGINAL-URL:https://www.centervillega.org
X-WR-CALDESC:Events for City of Centerville
REFRESH-INTERVAL;VALUE=DURATION:PT1H
X-Robots-Tag:noindex
X-PUBLISHED-TTL:PT1H
BEGIN:VTIMEZONE
TZID:America/New_York
BEGIN:DAYLIGHT
TZOFFSETFROM:-0500
TZOFFSETTO:-0400
TZNAME:EDT
DTSTART:20270314T070000
END:DAYLIGHT
BEGIN:STANDARD
TZOFFSETFROM:-0400
TZOFFSETTO:-0500
TZNAME:EST
DTSTART:20271107T060000
END:STANDARD
BEGIN:DAYLIGHT
TZOFFSETFROM:-0500
TZOFFSETTO:-0400
TZNAME:EDT
DTSTART:20280312T070000
END:DAYLIGHT
BEGIN:STANDARD
TZOFFSETFROM:-0400
TZOFFSETTO:-0500
TZNAME:EST
DTSTART:20281105T060000
END:STANDARD
BEGIN:DAYLIGHT
TZOFFSETFROM:-0500
TZOFFSETTO:-0400
TZNAME:EDT
DTSTART:20290311T070000
END:DAYLIGHT
BEGIN:STANDARD
TZOFFSETFROM:-0400
TZOFFSETTO:-0500
TZNAME:EST
DTSTART:20291104T060000
END:STANDARD
END:VTIMEZONE
BEGIN:VEVENT
DTSTART;TZID=America/New_York:20280120T100000
DTEND;TZID=America/New_York:20280120T150000
DTSTAMP:20260424T090425
CREATED:20260203T210212Z
LAST-MODIFIED:20260203T213840Z
UID:2258-1831975200-1831993200@www.centervillega.org
SUMMARY:Centerville Seniors - Community Room
DESCRIPTION:
URL:https://www.centervillega.org/event/centerville-seniors-2/2028-01-20/
LOCATION:Centerville Community Rood\, 300 E. Church Street\, Centerville\, GA\, 31028\, United States
END:VEVENT
BEGIN:VEVENT
DTSTART;TZID=America/New_York:20280217T100000
DTEND;TZID=America/New_York:20280217T150000
DTSTAMP:20260424T090425
CREATED:20260203T210212Z
LAST-MODIFIED:20260203T210212Z
UID:2376-1834394400-1834412400@www.centervillega.org
SUMMARY:Centerville Seniors - Community Room
DESCRIPTION:
URL:https://www.centervillega.org/event/centerville-seniors-2/2028-02-17/
LOCATION:Centerville Community Rood\, 300 E. Church Street\, Centerville\, GA\, 31028\, United States
END:VEVENT
BEGIN:VEVENT
DTSTART;TZID=America/New_York:20280316T100000
DTEND;TZID=America/New_York:20280316T150000
DTSTAMP:20260424T090425
CREATED:20260203T210212Z
LAST-MODIFIED:20260203T210212Z
UID:2464-1836813600-1836831600@www.centervillega.org
SUMMARY:Centerville Seniors - Community Room
DESCRIPTION:
URL:https://www.centervillega.org/event/centerville-seniors-2/2028-03-16/
LOCATION:Centerville Community Rood\, 300 E. Church Street\, Centerville\, GA\, 31028\, United States
END:VEVENT
BEGIN:VEVENT
DTSTART;TZID=America/New_York:20280420T100000
DTEND;TZID=America/New_York:20280420T150000
DTSTAMP:20260424T090425
CREATED:20260203T210212Z
LAST-MODIFIED:20260203T210212Z
UID:2497-1839837600-1839855600@www.centervillega.org
SUMMARY:Centerville Seniors - Community Room
DESCRIPTION:
URL:https://www.centervillega.org/event/centerville-seniors-2/2028-04-20/
LOCATION:Centerville Community Rood\, 300 E. Church Street\, Centerville\, GA\, 31028\, United States
END:VEVENT
END:VCALENDAR