BEGIN:VCALENDAR
VERSION:2.0
PRODID:-//City of Centerville - ECPv6.15.20//NONSGML v1.0//EN
CALSCALE:GREGORIAN
METHOD:PUBLISH
X-WR-CALNAME:City of Centerville
X-ORIGINAL-URL:https://www.centervillega.org
X-WR-CALDESC:Events for City of Centerville
REFRESH-INTERVAL;VALUE=DURATION:PT1H
X-Robots-Tag:noindex
X-PUBLISHED-TTL:PT1H
BEGIN:VTIMEZONE
TZID:America/New_York
BEGIN:DAYLIGHT
TZOFFSETFROM:-0500
TZOFFSETTO:-0400
TZNAME:EDT
DTSTART:20250309T070000
END:DAYLIGHT
BEGIN:STANDARD
TZOFFSETFROM:-0400
TZOFFSETTO:-0500
TZNAME:EST
DTSTART:20251102T060000
END:STANDARD
BEGIN:DAYLIGHT
TZOFFSETFROM:-0500
TZOFFSETTO:-0400
TZNAME:EDT
DTSTART:20260308T070000
END:DAYLIGHT
BEGIN:STANDARD
TZOFFSETFROM:-0400
TZOFFSETTO:-0500
TZNAME:EST
DTSTART:20261101T060000
END:STANDARD
BEGIN:DAYLIGHT
TZOFFSETFROM:-0500
TZOFFSETTO:-0400
TZNAME:EDT
DTSTART:20270314T070000
END:DAYLIGHT
BEGIN:STANDARD
TZOFFSETFROM:-0400
TZOFFSETTO:-0500
TZNAME:EST
DTSTART:20271107T060000
END:STANDARD
END:VTIMEZONE
BEGIN:VEVENT
DTSTART;TZID=America/New_York:20260422T080000
DTEND;TZID=America/New_York:20260422T170000
DTSTAMP:20260422T111209
CREATED:20260415T132743Z
LAST-MODIFIED:20260415T173321Z
UID:2490-1776844800-1776877200@www.centervillega.org
SUMMARY:Ga. Cities Week
DESCRIPTION:Scheduled Events: All Week will be Spring Cleanup Week and bulk items\, such as furniture and mattresses\, will be picked up at no additional cost during this week. Items must be placed at the curb by 6:00 AM on your scheduled pick-up day. Prohibited Items are Construction Materials\, Hazardous Materials and Tires. Got appliances? Please call the Public Works Department at 478-953-3222 to schedule pickups or for any other event questions. This is a free service provided by the City of Centerville and Ryland Sanitation. The City reserves the right to refuse any items for cleanup that do not meet the criteria of the program. \nTouch-A-Truck and Meet-A-City Official will be held on Wednesday\, April 22 from 1-5 p.m. at Center Park of Centerville and open to the public. \nStory Time With Mayor Evans will be on Thursday\, April 23 at 10:30 a.m. at Centerville Public Library and open the public. \nReading With Mayor Evans will be on Friday\, April 24 at 1:45 p.m. at Centerville Elementary and only open to those with access to the school.
URL:https://www.centervillega.org/event/ga-cities-week/2026-04-22/
END:VEVENT
BEGIN:VEVENT
DTSTART;TZID=America/New_York:20260423T080000
DTEND;TZID=America/New_York:20260423T170000
DTSTAMP:20260422T111209
CREATED:20260415T132743Z
LAST-MODIFIED:20260415T173321Z
UID:2491-1776931200-1776963600@www.centervillega.org
SUMMARY:Ga. Cities Week
DESCRIPTION:Scheduled Events: All Week will be Spring Cleanup Week and bulk items\, such as furniture and mattresses\, will be picked up at no additional cost during this week. Items must be placed at the curb by 6:00 AM on your scheduled pick-up day. Prohibited Items are Construction Materials\, Hazardous Materials and Tires. Got appliances? Please call the Public Works Department at 478-953-3222 to schedule pickups or for any other event questions. This is a free service provided by the City of Centerville and Ryland Sanitation. The City reserves the right to refuse any items for cleanup that do not meet the criteria of the program. \nTouch-A-Truck and Meet-A-City Official will be held on Wednesday\, April 22 from 1-5 p.m. at Center Park of Centerville and open to the public. \nStory Time With Mayor Evans will be on Thursday\, April 23 at 10:30 a.m. at Centerville Public Library and open the public. \nReading With Mayor Evans will be on Friday\, April 24 at 1:45 p.m. at Centerville Elementary and only open to those with access to the school.
URL:https://www.centervillega.org/event/ga-cities-week/2026-04-23/
END:VEVENT
BEGIN:VEVENT
DTSTART;TZID=America/New_York:20260424T080000
DTEND;TZID=America/New_York:20260424T170000
DTSTAMP:20260422T111209
CREATED:20260415T132743Z
LAST-MODIFIED:20260415T173321Z
UID:2492-1777017600-1777050000@www.centervillega.org
SUMMARY:Ga. Cities Week
DESCRIPTION:Scheduled Events: All Week will be Spring Cleanup Week and bulk items\, such as furniture and mattresses\, will be picked up at no additional cost during this week. Items must be placed at the curb by 6:00 AM on your scheduled pick-up day. Prohibited Items are Construction Materials\, Hazardous Materials and Tires. Got appliances? Please call the Public Works Department at 478-953-3222 to schedule pickups or for any other event questions. This is a free service provided by the City of Centerville and Ryland Sanitation. The City reserves the right to refuse any items for cleanup that do not meet the criteria of the program. \nTouch-A-Truck and Meet-A-City Official will be held on Wednesday\, April 22 from 1-5 p.m. at Center Park of Centerville and open to the public. \nStory Time With Mayor Evans will be on Thursday\, April 23 at 10:30 a.m. at Centerville Public Library and open the public. \nReading With Mayor Evans will be on Friday\, April 24 at 1:45 p.m. at Centerville Elementary and only open to those with access to the school.
URL:https://www.centervillega.org/event/ga-cities-week/2026-04-24/
END:VEVENT
BEGIN:VEVENT
DTSTART;TZID=America/New_York:20260425T080000
DTEND;TZID=America/New_York:20260425T170000
DTSTAMP:20260422T111209
CREATED:20260204T144814Z
LAST-MODIFIED:20260204T144814Z
UID:2342-1777104000-1777136400@www.centervillega.org
SUMMARY:Surprise birthday party - Community Room
DESCRIPTION:
URL:https://www.centervillega.org/event/surprise-birthday-party-community-room/
END:VEVENT
BEGIN:VEVENT
DTSTART;TZID=America/New_York:20260427T080000
DTEND;TZID=America/New_York:20260427T200000
DTSTAMP:20260422T111209
CREATED:20260408T140033Z
LAST-MODIFIED:20260408T140033Z
UID:2476-1777276800-1777320000@www.centervillega.org
SUMMARY:Free Educational Class - Community Room
DESCRIPTION:
URL:https://www.centervillega.org/event/free-educational-class-community-room/
END:VEVENT
BEGIN:VEVENT
DTSTART;TZID=America/New_York:20260428T173000
DTEND;TZID=America/New_York:20260428T193000
DTSTAMP:20260422T111209
CREATED:20260204T145025Z
LAST-MODIFIED:20260204T145025Z
UID:2343-1777397400-1777404600@www.centervillega.org
SUMMARY:GMA Session 6th District - Community Room
DESCRIPTION:
URL:https://www.centervillega.org/event/gma-session-6th-district-community-room/
END:VEVENT
BEGIN:VEVENT
DTSTART;TZID=America/New_York:20260429T103000
DTEND;TZID=America/New_York:20260429T143000
DTSTAMP:20260422T111209
CREATED:20260408T140105Z
LAST-MODIFIED:20260408T140105Z
UID:2477-1777458600-1777473000@www.centervillega.org
SUMMARY:Free Educational Class - Community Room
DESCRIPTION:
URL:https://www.centervillega.org/event/free-educational-class-community-room-2/
END:VEVENT
END:VCALENDAR